BEGIN:VCALENDAR
METHOD:PUBLISH
PRODID:-//doubleknot.com//CalenderEvent MIMEDIR//EN
VERSION:2.0
BEGIN:VEVENT
UID:3141952-20260414T220000Z-20260415T000000Z@doubleknot.com
CREATED:20260325T191042Z
LAST-MODIFIED:20260325T191956Z
DTSTAMP:20260419T190507Z
DTSTART:20260414T220000Z
DTEND:20260415T000000Z
LOCATION:US
CATEGORIES:Leadership Essentials Training, Webinar
DESCRIPTION:First Steps for New Leaders is required for all Primary Leaders and Co-Leaders. It covers GSESC specific information, including Volunteer Essentials, Safety Activity Checkpoints, Council procedures, forms and much more.  \n  \n  \n Please note that if you are more than 15 minutes late to the webinar, you will not be able to attend and will need to reschedule. Thank you for your understanding! \n 
SUMMARY:First Steps for New Co-Leaders
PRIORITY:5
BEGIN:VALARM
TRIGGER:PT15M
ACTION:DISPLAY
DESCRIPTION:Reminder
PRIORITY:5
END:VALARM
END:VEVENT
END:VCALENDAR
